BEGIN:VCALENDAR
VERSION:2.0
PRODID:-//Billie&#039;s Burgers &amp; Beer - ECPv6.15.20//NONSGML v1.0//EN
CALSCALE:GREGORIAN
METHOD:PUBLISH
X-ORIGINAL-URL:https://billiesburgersandbeer.com
X-WR-CALDESC:Events for Billie&#039;s Burgers &amp; Beer
REFRESH-INTERVAL;VALUE=DURATION:PT1H
X-Robots-Tag:noindex
X-PUBLISHED-TTL:PT1H
BEGIN:VTIMEZONE
TZID:UTC
BEGIN:STANDARD
TZOFFSETFROM:+0000
TZOFFSETTO:+0000
TZNAME:UTC
DTSTART:20210101T000000
END:STANDARD
END:VTIMEZONE
BEGIN:VEVENT
DTSTART;TZID=UTC:20240628T190000
DTEND;TZID=UTC:20240628T220000
DTSTAMP:20260423T172249
CREATED:20240426T224052Z
LAST-MODIFIED:20240426T224052Z
UID:1528-1719601200-1719612000@billiesburgersandbeer.com
SUMMARY:Karaoke Night
DESCRIPTION:Join us every Friday night from 7pm to 10pm at Billie’s Burgers & Beer for an unforgettable karaoke experience! Sing your heart out and showcase your vocal talents while enjoying our delicious burgers\, refreshing beers\, and lively atmosphere. Whether you’re a seasoned performer or just looking to have some fun with friends\, our karaoke night is the perfect way to kick off the weekend. So grab the mic\, gather your friends\, and get ready for a night of laughter\, music\, and great food at Billie’s Burgers & Beer!
URL:https://billiesburgersandbeer.com/event/karaoke-night-21/
LOCATION:Billie’s Burgers & Beer\, 745 Columbus Ave\, Lebanon\, OH\, 45036\, United States
CATEGORIES:Karaoke Night!
ATTACH;FMTTYPE=image/png:https://billiesburgersandbeer.com/wp-content/uploads/2024/04/Billies-Karaoke-Night.png
END:VEVENT
BEGIN:VEVENT
DTSTART;TZID=UTC:20240621T190000
DTEND;TZID=UTC:20240621T220000
DTSTAMP:20260423T172249
CREATED:20240426T223957Z
LAST-MODIFIED:20240426T223957Z
UID:1526-1718996400-1719007200@billiesburgersandbeer.com
SUMMARY:Karaoke Night
DESCRIPTION:Join us every Friday night from 7pm to 10pm at Billie’s Burgers & Beer for an unforgettable karaoke experience! Sing your heart out and showcase your vocal talents while enjoying our delicious burgers\, refreshing beers\, and lively atmosphere. Whether you’re a seasoned performer or just looking to have some fun with friends\, our karaoke night is the perfect way to kick off the weekend. So grab the mic\, gather your friends\, and get ready for a night of laughter\, music\, and great food at Billie’s Burgers & Beer!
URL:https://billiesburgersandbeer.com/event/karaoke-night-20/
LOCATION:Billie’s Burgers & Beer\, 745 Columbus Ave\, Lebanon\, OH\, 45036\, United States
CATEGORIES:Karaoke Night!
ATTACH;FMTTYPE=image/png:https://billiesburgersandbeer.com/wp-content/uploads/2024/04/Billies-Karaoke-Night.png
END:VEVENT
BEGIN:VEVENT
DTSTART;TZID=UTC:20240614T190000
DTEND;TZID=UTC:20240614T220000
DTSTAMP:20260423T172249
CREATED:20240426T222716Z
LAST-MODIFIED:20240426T223906Z
UID:1524-1718391600-1718402400@billiesburgersandbeer.com
SUMMARY:Karaoke Night
DESCRIPTION:Join us every Friday night from 7pm to 10pm at Billie’s Burgers & Beer for an unforgettable karaoke experience! Sing your heart out and showcase your vocal talents while enjoying our delicious burgers\, refreshing beers\, and lively atmosphere. Whether you’re a seasoned performer or just looking to have some fun with friends\, our karaoke night is the perfect way to kick off the weekend. So grab the mic\, gather your friends\, and get ready for a night of laughter\, music\, and great food at Billie’s Burgers & Beer!
URL:https://billiesburgersandbeer.com/event/karaoke-night-19/
LOCATION:Billie’s Burgers & Beer\, 745 Columbus Ave\, Lebanon\, OH\, 45036\, United States
CATEGORIES:Karaoke Night!
ATTACH;FMTTYPE=image/png:https://billiesburgersandbeer.com/wp-content/uploads/2024/04/Billies-Karaoke-Night.png
END:VEVENT
BEGIN:VEVENT
DTSTART;TZID=UTC:20240607T190000
DTEND;TZID=UTC:20240607T220000
DTSTAMP:20260423T172249
CREATED:20240426T222536Z
LAST-MODIFIED:20240426T222536Z
UID:1522-1717786800-1717797600@billiesburgersandbeer.com
SUMMARY:Karaoke Night
DESCRIPTION:Join us every Friday night from 7pm to 10pm at Billie’s Burgers & Beer for an unforgettable karaoke experience! Sing your heart out and showcase your vocal talents while enjoying our delicious burgers\, refreshing beers\, and lively atmosphere. Whether you’re a seasoned performer or just looking to have some fun with friends\, our karaoke night is the perfect way to kick off the weekend. So grab the mic\, gather your friends\, and get ready for a night of laughter\, music\, and great food at Billie’s Burgers & Beer!
URL:https://billiesburgersandbeer.com/event/karaoke-night-18/
LOCATION:Billie’s Burgers & Beer\, 745 Columbus Ave\, Lebanon\, OH\, 45036\, United States
CATEGORIES:Karaoke Night!
ATTACH;FMTTYPE=image/png:https://billiesburgersandbeer.com/wp-content/uploads/2024/04/Billies-Karaoke-Night.png
END:VEVENT
BEGIN:VEVENT
DTSTART;TZID=UTC:20240531T190000
DTEND;TZID=UTC:20240531T220000
DTSTAMP:20260423T172249
CREATED:20240426T222443Z
LAST-MODIFIED:20240426T222443Z
UID:1520-1717182000-1717192800@billiesburgersandbeer.com
SUMMARY:Karaoke Night
DESCRIPTION:Join us every Friday night from 7pm to 10pm at Billie’s Burgers & Beer for an unforgettable karaoke experience! Sing your heart out and showcase your vocal talents while enjoying our delicious burgers\, refreshing beers\, and lively atmosphere. Whether you’re a seasoned performer or just looking to have some fun with friends\, our karaoke night is the perfect way to kick off the weekend. So grab the mic\, gather your friends\, and get ready for a night of laughter\, music\, and great food at Billie’s Burgers & Beer!
URL:https://billiesburgersandbeer.com/event/karaoke-night-17/
LOCATION:Billie’s Burgers & Beer\, 745 Columbus Ave\, Lebanon\, OH\, 45036\, United States
CATEGORIES:Karaoke Night!
ATTACH;FMTTYPE=image/png:https://billiesburgersandbeer.com/wp-content/uploads/2024/04/Billies-Karaoke-Night.png
END:VEVENT
BEGIN:VEVENT
DTSTART;TZID=UTC:20240524T190000
DTEND;TZID=UTC:20240524T220000
DTSTAMP:20260423T172250
CREATED:20240426T222357Z
LAST-MODIFIED:20240426T222357Z
UID:1518-1716577200-1716588000@billiesburgersandbeer.com
SUMMARY:Karaoke Night
DESCRIPTION:Join us every Friday night from 7pm to 10pm at Billie’s Burgers & Beer for an unforgettable karaoke experience! Sing your heart out and showcase your vocal talents while enjoying our delicious burgers\, refreshing beers\, and lively atmosphere. Whether you’re a seasoned performer or just looking to have some fun with friends\, our karaoke night is the perfect way to kick off the weekend. So grab the mic\, gather your friends\, and get ready for a night of laughter\, music\, and great food at Billie’s Burgers & Beer!
URL:https://billiesburgersandbeer.com/event/karaoke-night-16/
LOCATION:Billie’s Burgers & Beer\, 745 Columbus Ave\, Lebanon\, OH\, 45036\, United States
CATEGORIES:Karaoke Night!
ATTACH;FMTTYPE=image/png:https://billiesburgersandbeer.com/wp-content/uploads/2024/04/Billies-Karaoke-Night.png
END:VEVENT
BEGIN:VEVENT
DTSTART;TZID=UTC:20240517T190000
DTEND;TZID=UTC:20240517T220000
DTSTAMP:20260423T172250
CREATED:20240426T222307Z
LAST-MODIFIED:20240426T222307Z
UID:1516-1715972400-1715983200@billiesburgersandbeer.com
SUMMARY:Karaoke Night
DESCRIPTION:Join us every Friday night from 7pm to 10pm at Billie’s Burgers & Beer for an unforgettable karaoke experience! Sing your heart out and showcase your vocal talents while enjoying our delicious burgers\, refreshing beers\, and lively atmosphere. Whether you’re a seasoned performer or just looking to have some fun with friends\, our karaoke night is the perfect way to kick off the weekend. So grab the mic\, gather your friends\, and get ready for a night of laughter\, music\, and great food at Billie’s Burgers & Beer!
URL:https://billiesburgersandbeer.com/event/karaoke-night-15/
LOCATION:Billie’s Burgers & Beer\, 745 Columbus Ave\, Lebanon\, OH\, 45036\, United States
CATEGORIES:Karaoke Night!
ATTACH;FMTTYPE=image/png:https://billiesburgersandbeer.com/wp-content/uploads/2024/04/Billies-Karaoke-Night.png
END:VEVENT
BEGIN:VEVENT
DTSTART;TZID=UTC:20240510T190000
DTEND;TZID=UTC:20240510T220000
DTSTAMP:20260423T172250
CREATED:20240426T222222Z
LAST-MODIFIED:20240426T222222Z
UID:1514-1715367600-1715378400@billiesburgersandbeer.com
SUMMARY:Karaoke Night
DESCRIPTION:Join us every Friday night from 7pm to 10pm at Billie’s Burgers & Beer for an unforgettable karaoke experience! Sing your heart out and showcase your vocal talents while enjoying our delicious burgers\, refreshing beers\, and lively atmosphere. Whether you’re a seasoned performer or just looking to have some fun with friends\, our karaoke night is the perfect way to kick off the weekend. So grab the mic\, gather your friends\, and get ready for a night of laughter\, music\, and great food at Billie’s Burgers & Beer!
URL:https://billiesburgersandbeer.com/event/karaoke-night-14/
LOCATION:Billie’s Burgers & Beer\, 745 Columbus Ave\, Lebanon\, OH\, 45036\, United States
CATEGORIES:Karaoke Night!
ATTACH;FMTTYPE=image/png:https://billiesburgersandbeer.com/wp-content/uploads/2024/04/Billies-Karaoke-Night.png
END:VEVENT
BEGIN:VEVENT
DTSTART;TZID=UTC:20240503T190000
DTEND;TZID=UTC:20240503T220000
DTSTAMP:20260423T172250
CREATED:20240426T222131Z
LAST-MODIFIED:20240426T222131Z
UID:1512-1714762800-1714773600@billiesburgersandbeer.com
SUMMARY:Karaoke Night
DESCRIPTION:Join us every Friday night from 7pm to 10pm at Billie’s Burgers & Beer for an unforgettable karaoke experience! Sing your heart out and showcase your vocal talents while enjoying our delicious burgers\, refreshing beers\, and lively atmosphere. Whether you’re a seasoned performer or just looking to have some fun with friends\, our karaoke night is the perfect way to kick off the weekend. So grab the mic\, gather your friends\, and get ready for a night of laughter\, music\, and great food at Billie’s Burgers & Beer!
URL:https://billiesburgersandbeer.com/event/karaoke-night-13/
LOCATION:Billie’s Burgers & Beer\, 745 Columbus Ave\, Lebanon\, OH\, 45036\, United States
CATEGORIES:Karaoke Night!
ATTACH;FMTTYPE=image/png:https://billiesburgersandbeer.com/wp-content/uploads/2024/04/Billies-Karaoke-Night.png
END:VEVENT
BEGIN:VEVENT
DTSTART;TZID=UTC:20240426T190000
DTEND;TZID=UTC:20240426T220000
DTSTAMP:20260423T172250
CREATED:20240426T222004Z
LAST-MODIFIED:20240426T222004Z
UID:1509-1714158000-1714168800@billiesburgersandbeer.com
SUMMARY:Karaoke Night
DESCRIPTION:Join us every Friday night from 7pm to 10pm at Billie’s Burgers & Beer for an unforgettable karaoke experience! Sing your heart out and showcase your vocal talents while enjoying our delicious burgers\, refreshing beers\, and lively atmosphere. Whether you’re a seasoned performer or just looking to have some fun with friends\, our karaoke night is the perfect way to kick off the weekend. So grab the mic\, gather your friends\, and get ready for a night of laughter\, music\, and great food at Billie’s Burgers & Beer!
URL:https://billiesburgersandbeer.com/event/karaoke-night-12/
LOCATION:Billie’s Burgers & Beer\, 745 Columbus Ave\, Lebanon\, OH\, 45036\, United States
CATEGORIES:Karaoke Night!
ATTACH;FMTTYPE=image/png:https://billiesburgersandbeer.com/wp-content/uploads/2024/04/Billies-Karaoke-Night.png
END:VEVENT
BEGIN:VEVENT
DTSTART;TZID=UTC:20230630T190000
DTEND;TZID=UTC:20230630T210000
DTSTAMP:20260423T172250
CREATED:20230630T232006Z
LAST-MODIFIED:20230607T232326Z
UID:1473-1688151600-1688158800@billiesburgersandbeer.com
SUMMARY:Friday Karaoke With Jessie Lyn
DESCRIPTION:Afun filled night of singing your favorite song with karaoke at Billie’s Burgers & Beer!!!
URL:https://billiesburgersandbeer.com/event/friday-karaoke-with-jessie-lyn/
LOCATION:Billie’s Burgers & Beer\, 745 Columbus Ave\, Lebanon\, OH\, 45036\, United States
CATEGORIES:Karaoke Night!
ATTACH;FMTTYPE=image/jpeg:https://billiesburgersandbeer.com/wp-content/uploads/2022/10/Karaoke-Night-03.jpg
END:VEVENT
BEGIN:VEVENT
DTSTART;TZID=UTC:20230617T190000
DTEND;TZID=UTC:20230617T220000
DTSTAMP:20260423T172250
CREATED:20230607T231045Z
LAST-MODIFIED:20230607T231045Z
UID:1471-1687028400-1687039200@billiesburgersandbeer.com
SUMMARY:Karaoke Night with Jim
DESCRIPTION:Come have some fun and sing your heart out at karaoke night at Billie’s Burgers & Beer!
URL:https://billiesburgersandbeer.com/event/karaoke-night-with-jim/
LOCATION:Billie’s Burgers & Beer\, 745 Columbus Ave\, Lebanon\, OH\, 45036\, United States
CATEGORIES:Karaoke Night!
ATTACH;FMTTYPE=image/jpeg:https://billiesburgersandbeer.com/wp-content/uploads/2022/11/pexels-dominika-roseclay-1032000.jpg
END:VEVENT
BEGIN:VEVENT
DTSTART;TZID=UTC:20230616T190000
DTEND;TZID=UTC:20230616T210000
DTSTAMP:20260423T172250
CREATED:20230607T230830Z
LAST-MODIFIED:20230607T230830Z
UID:1468-1686942000-1686949200@billiesburgersandbeer.com
SUMMARY:Karaoke with Jim!!!
DESCRIPTION:Come have some fun and show off your pipes at karaoke night at Billie’s Burgers & Beer!
URL:https://billiesburgersandbeer.com/event/karaoke-with-jim/
LOCATION:Billie’s Burgers & Beer\, 745 Columbus Ave\, Lebanon\, OH\, 45036\, United States
CATEGORIES:Karaoke Night!
ATTACH;FMTTYPE=image/jpeg:https://billiesburgersandbeer.com/wp-content/uploads/2023/06/Karaoke-Image-01.jpg
END:VEVENT
BEGIN:VEVENT
DTSTART;TZID=UTC:20221230T190000
DTEND;TZID=UTC:20221230T223000
DTSTAMP:20260423T172250
CREATED:20221114T224552Z
LAST-MODIFIED:20221114T224552Z
UID:1392-1672426800-1672439400@billiesburgersandbeer.com
SUMMARY:Karaoke Night!!!
DESCRIPTION:Join us for a fun filled Karaoke Night at Billie’s Burgers & Beer! Come enjoy some great entertainment with great food and drinks!
URL:https://billiesburgersandbeer.com/event/karaoke-night-11/
LOCATION:Billie’s Burgers & Beer\, 745 Columbus Ave\, Lebanon\, OH\, 45036\, United States
CATEGORIES:Karaoke Night!
ATTACH;FMTTYPE=image/jpeg:https://billiesburgersandbeer.com/wp-content/uploads/2022/10/hd-wallpaper-3284770_1920.jpg
END:VEVENT
BEGIN:VEVENT
DTSTART;TZID=UTC:20221223T190000
DTEND;TZID=UTC:20221223T223000
DTSTAMP:20260423T172250
CREATED:20221114T224451Z
LAST-MODIFIED:20221114T224451Z
UID:1389-1671822000-1671834600@billiesburgersandbeer.com
SUMMARY:Karaoke Night
DESCRIPTION:Karaoke Night at Billie’s Burgers & Beer!
URL:https://billiesburgersandbeer.com/event/karaoke-night-10/
LOCATION:Billie’s Burgers & Beer\, 745 Columbus Ave\, Lebanon\, OH\, 45036\, United States
CATEGORIES:Karaoke Night!
ATTACH;FMTTYPE=image/jpeg:https://billiesburgersandbeer.com/wp-content/uploads/2022/11/pexels-dominika-roseclay-1032000.jpg
END:VEVENT
BEGIN:VEVENT
DTSTART;TZID=UTC:20221216T190000
DTEND;TZID=UTC:20221216T223000
DTSTAMP:20260423T172250
CREATED:20221114T224206Z
LAST-MODIFIED:20221114T224206Z
UID:1387-1671217200-1671229800@billiesburgersandbeer.com
SUMMARY:Karaoke Night!!
DESCRIPTION:Karaoke Night at Billie’s Burgers & Beer! Come enjoy some great entertainment with great food and drinks!
URL:https://billiesburgersandbeer.com/event/karaoke-night-9/
LOCATION:Billie’s Burgers & Beer\, 745 Columbus Ave\, Lebanon\, OH\, 45036\, United States
CATEGORIES:Karaoke Night!
ATTACH;FMTTYPE=image/jpeg:https://billiesburgersandbeer.com/wp-content/uploads/2022/10/Karaoke-Night-02.jpg
END:VEVENT
BEGIN:VEVENT
DTSTART;TZID=UTC:20221209T190000
DTEND;TZID=UTC:20221209T223000
DTSTAMP:20260423T172250
CREATED:20221114T224039Z
LAST-MODIFIED:20221114T224039Z
UID:1385-1670612400-1670625000@billiesburgersandbeer.com
SUMMARY:Karaoke Night!!!
DESCRIPTION:Join us for a fun filled Karaoke Night at Billie’s Burgers & Beer! Come enjoy some great entertainment!
URL:https://billiesburgersandbeer.com/event/karaoke-night-8/
LOCATION:Billie’s Burgers & Beer\, 745 Columbus Ave\, Lebanon\, OH\, 45036\, United States
CATEGORIES:Karaoke Night!
ATTACH;FMTTYPE=image/jpeg:https://billiesburgersandbeer.com/wp-content/uploads/2022/10/Karaoke-Night-03.jpg
END:VEVENT
BEGIN:VEVENT
DTSTART;TZID=UTC:20221202T190000
DTEND;TZID=UTC:20221202T223000
DTSTAMP:20260423T172250
CREATED:20221114T223929Z
LAST-MODIFIED:20221114T223929Z
UID:1383-1670007600-1670020200@billiesburgersandbeer.com
SUMMARY:Karaoke Night
DESCRIPTION:Join us for a fun filled Karaoke Night at Billie’s Burgers & Beer! Come enjoy some great entertainment with great food and drinks!
URL:https://billiesburgersandbeer.com/event/karaoke-night-7/
LOCATION:Billie’s Burgers & Beer\, 745 Columbus Ave\, Lebanon\, OH\, 45036\, United States
CATEGORIES:Karaoke Night!
ATTACH;FMTTYPE=image/jpeg:https://billiesburgersandbeer.com/wp-content/uploads/2022/10/Karaoke-Night-01.jpg
END:VEVENT
BEGIN:VEVENT
DTSTART;TZID=UTC:20221125T193000
DTEND;TZID=UTC:20221125T223000
DTSTAMP:20260423T172250
CREATED:20221114T223443Z
LAST-MODIFIED:20221114T223443Z
UID:1380-1669404600-1669415400@billiesburgersandbeer.com
SUMMARY:Karaoke Night!!!
DESCRIPTION:Join us for a fun filled Karaoke Night at Billie’s Burgers & Beer! Come enjoy some great entertainment with great food and drinks!
URL:https://billiesburgersandbeer.com/event/karaoke-night-6/
LOCATION:Billie’s Burgers & Beer\, 745 Columbus Ave\, Lebanon\, OH\, 45036\, United States
CATEGORIES:Karaoke Night!
ATTACH;FMTTYPE=image/jpeg:https://billiesburgersandbeer.com/wp-content/uploads/2022/10/Karaoke-Night-02.jpg
END:VEVENT
BEGIN:VEVENT
DTSTART;TZID=UTC:20221125T190000
DTEND;TZID=UTC:20221125T190000
DTSTAMP:20260423T172250
CREATED:20221016T223300Z
LAST-MODIFIED:20221016T223300Z
UID:1230-1669402800-1669402800@billiesburgersandbeer.com
SUMMARY:Weekly Karaoke Night!
DESCRIPTION:Join us at Billie’s Burgers & Beer for a great time during our Karaoke Night!!!
URL:https://billiesburgersandbeer.com/event/weekly-karaoke-night/
LOCATION:Billie’s Burgers & Beer\, 745 Columbus Ave\, Lebanon\, OH\, 45036\, United States
CATEGORIES:Karaoke Night!
ATTACH;FMTTYPE=image/jpeg:https://billiesburgersandbeer.com/wp-content/uploads/2022/10/Karaoke-Night-03.jpg
END:VEVENT
BEGIN:VEVENT
DTSTART;TZID=UTC:20221118T190000
DTEND;TZID=UTC:20221118T223000
DTSTAMP:20260423T172250
CREATED:20221114T223246Z
LAST-MODIFIED:20221114T223246Z
UID:1378-1668798000-1668810600@billiesburgersandbeer.com
SUMMARY:Karaoke Night
DESCRIPTION:Join us for Karaoke Night at Billie’s Burgers & Beer!
URL:https://billiesburgersandbeer.com/event/karaoke-night-5/
LOCATION:Billie’s Burgers & Beer\, 745 Columbus Ave\, Lebanon\, OH\, 45036\, United States
CATEGORIES:Karaoke Night!
ATTACH;FMTTYPE=image/jpeg:https://billiesburgersandbeer.com/wp-content/uploads/2022/10/hd-wallpaper-3284770_1920.jpg
END:VEVENT
BEGIN:VEVENT
DTSTART;TZID=UTC:20221118T190000
DTEND;TZID=UTC:20221118T190000
DTSTAMP:20260423T172250
CREATED:20221016T223138Z
LAST-MODIFIED:20221016T223138Z
UID:1228-1668798000-1668798000@billiesburgersandbeer.com
SUMMARY:Karaoke Night at Billie's Burgers & Beer
DESCRIPTION:Karaoke night is always a blast at Billie’s! Come out and have a great time\, bring your friends and family to enjoy some great food and drinks!
URL:https://billiesburgersandbeer.com/event/karaoke-night-at-billies-burgers-beer/
LOCATION:Billie’s Burgers & Beer\, 745 Columbus Ave\, Lebanon\, OH\, 45036\, United States
CATEGORIES:Karaoke Night!
ATTACH;FMTTYPE=image/jpeg:https://billiesburgersandbeer.com/wp-content/uploads/2022/10/Karaoke-Night-02.jpg
END:VEVENT
BEGIN:VEVENT
DTSTART;TZID=UTC:20221111T190000
DTEND;TZID=UTC:20221111T233000
DTSTAMP:20260423T172250
CREATED:20221016T222742Z
LAST-MODIFIED:20221016T222742Z
UID:1225-1668193200-1668209400@billiesburgersandbeer.com
SUMMARY:Karaoke Night!!!!!
DESCRIPTION:Karaoke Night hosted by Billie’s Burgers & Beer is always a great time with amazing food and cold drinks. Come out and join us!
URL:https://billiesburgersandbeer.com/event/karaoke-night-4/
LOCATION:Billie’s Burgers & Beer\, 745 Columbus Ave\, Lebanon\, OH\, 45036\, United States
CATEGORIES:Karaoke Night!
ATTACH;FMTTYPE=image/jpeg:https://billiesburgersandbeer.com/wp-content/uploads/2022/10/hd-wallpaper-3284770_1920.jpg
END:VEVENT
BEGIN:VEVENT
DTSTART;TZID=UTC:20221104T190000
DTEND;TZID=UTC:20221104T220000
DTSTAMP:20260423T172250
CREATED:20221016T222349Z
LAST-MODIFIED:20221016T222349Z
UID:1223-1667588400-1667599200@billiesburgersandbeer.com
SUMMARY:Karaoke Night!!
DESCRIPTION:Come to Billie’s Burgers & Beer for great food and drinks and show off your singing pipes with our fun filled karaoke night!
URL:https://billiesburgersandbeer.com/event/karaoke-night-3/
LOCATION:Billie’s Burgers & Beer\, 745 Columbus Ave\, Lebanon\, OH\, 45036\, United States
CATEGORIES:Karaoke Night!
ATTACH;FMTTYPE=image/jpeg:https://billiesburgersandbeer.com/wp-content/uploads/2022/10/Karaoke-Night-01.jpg
END:VEVENT
BEGIN:VEVENT
DTSTART;TZID=UTC:20221028T190000
DTEND;TZID=UTC:20221028T220000
DTSTAMP:20260423T172250
CREATED:20221016T222158Z
LAST-MODIFIED:20221016T222158Z
UID:1219-1666983600-1666994400@billiesburgersandbeer.com
SUMMARY:Karaoke Night!!!
DESCRIPTION:Join us at Billie’s Burgers & Beer for a great night of Karaoke with great food and drinks!
URL:https://billiesburgersandbeer.com/event/karaoke-night-2/
LOCATION:Billie’s Burgers & Beer\, 745 Columbus Ave\, Lebanon\, OH\, 45036\, United States
CATEGORIES:Karaoke Night!
ATTACH;FMTTYPE=image/jpeg:https://billiesburgersandbeer.com/wp-content/uploads/2022/10/Karaoke-Night-03.jpg
END:VEVENT
BEGIN:VEVENT
DTSTART;TZID=UTC:20221021T190000
DTEND;TZID=UTC:20221021T233000
DTSTAMP:20260423T172250
CREATED:20221016T220648Z
LAST-MODIFIED:20221016T220648Z
UID:1213-1666378800-1666395000@billiesburgersandbeer.com
SUMMARY:Halloween Karaoke Night!
DESCRIPTION:Come to Billie’s Burgers & Beer on Friday October 21 for a fun filled night of Karaoke  and a costume contest! \nSpecials available! \n$2.00 off orange Bud Light & Michelob Ultra Pitchers \n$1.39 Tenders Special \n$5.00 Orange Margarita
URL:https://billiesburgersandbeer.com/event/halloween-karaoke-night/
LOCATION:Billie’s Burgers & Beer\, 745 Columbus Ave\, Lebanon\, OH\, 45036\, United States
CATEGORIES:Karaoke Night!
ATTACH;FMTTYPE=image/jpeg:https://billiesburgersandbeer.com/wp-content/uploads/2022/10/Halloween-Karaoke-Night.jpg
END:VEVENT
BEGIN:VEVENT
DTSTART;TZID=UTC:20221021T190000
DTEND;TZID=UTC:20221021T233000
DTSTAMP:20260423T172250
CREATED:20221016T213953Z
LAST-MODIFIED:20221016T213953Z
UID:1202-1666378800-1666395000@billiesburgersandbeer.com
SUMMARY:Karaoke Night!
DESCRIPTION:Join us this Friday for some great fun and songs for our Karaoke Night!
URL:https://billiesburgersandbeer.com/event/karaoke-night/
LOCATION:Billie’s Burgers & Beer\, 745 Columbus Ave\, Lebanon\, OH\, 45036\, United States
CATEGORIES:Karaoke Night!
ATTACH;FMTTYPE=image/jpeg:https://billiesburgersandbeer.com/wp-content/uploads/2022/10/Karaoke-Night-02.jpg
END:VEVENT
END:VCALENDAR