BEGIN:VCALENDAR
VERSION:2.0
PRODID:-//Billie&#039;s Burgers &amp; Beer - ECPv6.15.20//NONSGML v1.0//EN
CALSCALE:GREGORIAN
METHOD:PUBLISH
X-ORIGINAL-URL:https://billiesburgersandbeer.com
X-WR-CALDESC:Events for Billie&#039;s Burgers &amp; Beer
REFRESH-INTERVAL;VALUE=DURATION:PT1H
X-Robots-Tag:noindex
X-PUBLISHED-TTL:PT1H
BEGIN:VTIMEZONE
TZID:UTC
BEGIN:STANDARD
TZOFFSETFROM:+0000
TZOFFSETTO:+0000
TZNAME:UTC
DTSTART:20210101T000000
END:STANDARD
END:VTIMEZONE
BEGIN:VEVENT
DTSTART;TZID=UTC:20240627T190000
DTEND;TZID=UTC:20240627T220000
DTSTAMP:20260423T173039
CREATED:20240426T230406Z
LAST-MODIFIED:20240426T230406Z
UID:1547-1719514800-1719525600@billiesburgersandbeer.com
SUMMARY:Trivia Night with Brant Benson
DESCRIPTION:Join us every Thursday night at 7pm at Billie’s Burgers & Beer for an exhilarating trivia night hosted by the one and only Brant Benson! Test your knowledge and compete against friends and fellow patrons in a variety of exciting trivia categories while enjoying our mouthwatering burgers and ice-cold beers. Brant’s engaging hosting style and challenging questions promise a night filled with fun\, laughter\, and friendly competition. Whether you’re a trivia enthusiast or just looking for a great time\, gather your team and join us for an unforgettable evening at Billie’s Burgers & Beer!
URL:https://billiesburgersandbeer.com/event/trivia-night-with-brant-benson-9/
LOCATION:Billie’s Burgers & Beer\, 745 Columbus Ave\, Lebanon\, OH\, 45036\, United States
CATEGORIES:Trivia Night!
ATTACH;FMTTYPE=image/png:https://billiesburgersandbeer.com/wp-content/uploads/2024/04/Billies-Trivia.png
END:VEVENT
BEGIN:VEVENT
DTSTART;TZID=UTC:20240620T190000
DTEND;TZID=UTC:20240620T220000
DTSTAMP:20260423T173039
CREATED:20240426T230258Z
LAST-MODIFIED:20240426T230258Z
UID:1545-1718910000-1718920800@billiesburgersandbeer.com
SUMMARY:Trivia Night with Brant Benson
DESCRIPTION:Join us every Thursday night at 7pm at Billie’s Burgers & Beer for an exhilarating trivia night hosted by the one and only Brant Benson! Test your knowledge and compete against friends and fellow patrons in a variety of exciting trivia categories while enjoying our mouthwatering burgers and ice-cold beers. Brant’s engaging hosting style and challenging questions promise a night filled with fun\, laughter\, and friendly competition. Whether you’re a trivia enthusiast or just looking for a great time\, gather your team and join us for an unforgettable evening at Billie’s Burgers & Beer!
URL:https://billiesburgersandbeer.com/event/trivia-night-with-brant-benson-8/
LOCATION:Billie’s Burgers & Beer\, 745 Columbus Ave\, Lebanon\, OH\, 45036\, United States
CATEGORIES:Trivia Night!
ATTACH;FMTTYPE=image/png:https://billiesburgersandbeer.com/wp-content/uploads/2024/04/Billies-Trivia.png
END:VEVENT
BEGIN:VEVENT
DTSTART;TZID=UTC:20240613T190000
DTEND;TZID=UTC:20240613T220000
DTSTAMP:20260423T173039
CREATED:20240426T230145Z
LAST-MODIFIED:20240426T230145Z
UID:1543-1718305200-1718316000@billiesburgersandbeer.com
SUMMARY:Trivia Night with Brant Benson
DESCRIPTION:Join us every Thursday night at 7pm at Billie’s Burgers & Beer for an exhilarating trivia night hosted by the one and only Brant Benson! Test your knowledge and compete against friends and fellow patrons in a variety of exciting trivia categories while enjoying our mouthwatering burgers and ice-cold beers. Brant’s engaging hosting style and challenging questions promise a night filled with fun\, laughter\, and friendly competition. Whether you’re a trivia enthusiast or just looking for a great time\, gather your team and join us for an unforgettable evening at Billie’s Burgers & Beer!
URL:https://billiesburgersandbeer.com/event/trivia-night-with-brant-benson-7/
LOCATION:Billie’s Burgers & Beer\, 745 Columbus Ave\, Lebanon\, OH\, 45036\, United States
CATEGORIES:Trivia Night!
ATTACH;FMTTYPE=image/png:https://billiesburgersandbeer.com/wp-content/uploads/2024/04/Billies-Trivia.png
END:VEVENT
BEGIN:VEVENT
DTSTART;TZID=UTC:20240606T190000
DTEND;TZID=UTC:20240606T220000
DTSTAMP:20260423T173039
CREATED:20240426T225704Z
LAST-MODIFIED:20240426T225704Z
UID:1539-1717700400-1717711200@billiesburgersandbeer.com
SUMMARY:Trivia Night with Brant Benson
DESCRIPTION:Join us every Thursday night at 7pm at Billie’s Burgers & Beer for an exhilarating trivia night hosted by the one and only Brant Benson! Test your knowledge and compete against friends and fellow patrons in a variety of exciting trivia categories while enjoying our mouthwatering burgers and ice-cold beers. Brant’s engaging hosting style and challenging questions promise a night filled with fun\, laughter\, and friendly competition. Whether you’re a trivia enthusiast or just looking for a great time\, gather your team and join us for an unforgettable evening at Billie’s Burgers & Beer!
URL:https://billiesburgersandbeer.com/event/trivia-night-with-brant-benson-5/
LOCATION:Billie’s Burgers & Beer\, 745 Columbus Ave\, Lebanon\, OH\, 45036\, United States
CATEGORIES:Trivia Night!
ATTACH;FMTTYPE=image/png:https://billiesburgersandbeer.com/wp-content/uploads/2024/04/Billies-Trivia.png
END:VEVENT
BEGIN:VEVENT
DTSTART;TZID=UTC:20240530T190000
DTEND;TZID=UTC:20240530T220000
DTSTAMP:20260423T173039
CREATED:20240426T225205Z
LAST-MODIFIED:20240426T225800Z
UID:1537-1717095600-1717106400@billiesburgersandbeer.com
SUMMARY:Trivia Night with Brant Benson
DESCRIPTION:Join us every Thursday night at 7pm at Billie’s Burgers & Beer for an exhilarating trivia night hosted by the one and only Brant Benson! Test your knowledge and compete against friends and fellow patrons in a variety of exciting trivia categories while enjoying our mouthwatering burgers and ice-cold beers. Brant’s engaging hosting style and challenging questions promise a night filled with fun\, laughter\, and friendly competition. Whether you’re a trivia enthusiast or just looking for a great time\, gather your team and join us for an unforgettable evening at Billie’s Burgers & Beer!
URL:https://billiesburgersandbeer.com/event/trivia-night-with-brant-benson-4/
LOCATION:Billie’s Burgers & Beer\, 745 Columbus Ave\, Lebanon\, OH\, 45036\, United States
CATEGORIES:Trivia Night!
ATTACH;FMTTYPE=image/png:https://billiesburgersandbeer.com/wp-content/uploads/2024/04/Billies-Trivia.png
END:VEVENT
BEGIN:VEVENT
DTSTART;TZID=UTC:20240523T190000
DTEND;TZID=UTC:20240523T220000
DTSTAMP:20260423T173039
CREATED:20240426T225101Z
LAST-MODIFIED:20240426T225101Z
UID:1535-1716490800-1716501600@billiesburgersandbeer.com
SUMMARY:Trivia Night with Brant Benson
DESCRIPTION:Join us every Thursday night at 7pm at Billie’s Burgers & Beer for an exhilarating trivia night hosted by the one and only Brant Benson! Test your knowledge and compete against friends and fellow patrons in a variety of exciting trivia categories while enjoying our mouthwatering burgers and ice-cold beers. Brant’s engaging hosting style and challenging questions promise a night filled with fun\, laughter\, and friendly competition. Whether you’re a trivia enthusiast or just looking for a great time\, gather your team and join us for an unforgettable evening at Billie’s Burgers & Beer!
URL:https://billiesburgersandbeer.com/event/trivia-night-with-brant-benson-3/
LOCATION:Billie’s Burgers & Beer\, 745 Columbus Ave\, Lebanon\, OH\, 45036\, United States
CATEGORIES:Trivia Night!
ATTACH;FMTTYPE=image/png:https://billiesburgersandbeer.com/wp-content/uploads/2024/04/Billies-Trivia.png
END:VEVENT
BEGIN:VEVENT
DTSTART;TZID=UTC:20240516T190000
DTEND;TZID=UTC:20240516T220000
DTSTAMP:20260423T173039
CREATED:20240426T230004Z
LAST-MODIFIED:20240426T230004Z
UID:1541-1715886000-1715896800@billiesburgersandbeer.com
SUMMARY:Trivia Night with Brant Benson
DESCRIPTION:Join us every Thursday night at 7pm at Billie’s Burgers & Beer for an exhilarating trivia night hosted by the one and only Brant Benson! Test your knowledge and compete against friends and fellow patrons in a variety of exciting trivia categories while enjoying our mouthwatering burgers and ice-cold beers. Brant’s engaging hosting style and challenging questions promise a night filled with fun\, laughter\, and friendly competition. Whether you’re a trivia enthusiast or just looking for a great time\, gather your team and join us for an unforgettable evening at Billie’s Burgers & Beer!
URL:https://billiesburgersandbeer.com/event/trivia-night-with-brant-benson-6/
LOCATION:Billie’s Burgers & Beer\, 745 Columbus Ave\, Lebanon\, OH\, 45036\, United States
CATEGORIES:Trivia Night!
ATTACH;FMTTYPE=image/png:https://billiesburgersandbeer.com/wp-content/uploads/2024/04/Billies-Trivia.png
END:VEVENT
BEGIN:VEVENT
DTSTART;TZID=UTC:20240509T190000
DTEND;TZID=UTC:20240509T220000
DTSTAMP:20260423T173039
CREATED:20240426T224942Z
LAST-MODIFIED:20240426T224942Z
UID:1533-1715281200-1715292000@billiesburgersandbeer.com
SUMMARY:Trivia Night with Brant Benson
DESCRIPTION:Join us every Thursday night at 7pm at Billie’s Burgers & Beer for an exhilarating trivia night hosted by the one and only Brant Benson! Test your knowledge and compete against friends and fellow patrons in a variety of exciting trivia categories while enjoying our mouthwatering burgers and ice-cold beers. Brant’s engaging hosting style and challenging questions promise a night filled with fun\, laughter\, and friendly competition. Whether you’re a trivia enthusiast or just looking for a great time\, gather your team and join us for an unforgettable evening at Billie’s Burgers & Beer!
URL:https://billiesburgersandbeer.com/event/trivia-night-with-brant-benson-2/
LOCATION:Billie’s Burgers & Beer\, 745 Columbus Ave\, Lebanon\, OH\, 45036\, United States
CATEGORIES:Trivia Night!
ATTACH;FMTTYPE=image/png:https://billiesburgersandbeer.com/wp-content/uploads/2024/04/Billies-Trivia.png
END:VEVENT
BEGIN:VEVENT
DTSTART;TZID=UTC:20240502T190000
DTEND;TZID=UTC:20240502T220000
DTSTAMP:20260423T173039
CREATED:20240426T224838Z
LAST-MODIFIED:20240426T224838Z
UID:1530-1714676400-1714687200@billiesburgersandbeer.com
SUMMARY:Trivia Night with Brant Benson
DESCRIPTION:Join us every Thursday night at 7pm at Billie’s Burgers & Beer for an exhilarating trivia night hosted by the one and only Brant Benson! Test your knowledge and compete against friends and fellow patrons in a variety of exciting trivia categories while enjoying our mouthwatering burgers and ice-cold beers. Brant’s engaging hosting style and challenging questions promise a night filled with fun\, laughter\, and friendly competition. Whether you’re a trivia enthusiast or just looking for a great time\, gather your team and join us for an unforgettable evening at Billie’s Burgers & Beer!
URL:https://billiesburgersandbeer.com/event/trivia-night-with-brant-benson/
LOCATION:Billie’s Burgers & Beer\, 745 Columbus Ave\, Lebanon\, OH\, 45036\, United States
CATEGORIES:Trivia Night!
ATTACH;FMTTYPE=image/png:https://billiesburgersandbeer.com/wp-content/uploads/2024/04/Billies-Trivia.png
END:VEVENT
BEGIN:VEVENT
DTSTART;TZID=UTC:20230213T190000
DTEND;TZID=UTC:20230302T210000
DTSTAMP:20260423T173039
CREATED:20230213T235916Z
LAST-MODIFIED:20230214T000036Z
UID:1444-1676314800-1677790800@billiesburgersandbeer.com
SUMMARY:Trivia Night!
DESCRIPTION:Join in the fun of our Trivia Night where you can win great prizes!
URL:https://billiesburgersandbeer.com/event/trivia-night-10/
LOCATION:Billie’s Burgers & Beer\, 745 Columbus Ave\, Lebanon\, OH\, 45036\, United States
CATEGORIES:Trivia Night!
ATTACH;FMTTYPE=image/jpeg:https://billiesburgersandbeer.com/wp-content/uploads/2022/10/Trivia-Night-02.jpg
END:VEVENT
BEGIN:VEVENT
DTSTART;TZID=UTC:20230213T190000
DTEND;TZID=UTC:20230223T210000
DTSTAMP:20260423T173039
CREATED:20230213T234938Z
LAST-MODIFIED:20230213T234938Z
UID:1440-1676314800-1677186000@billiesburgersandbeer.com
SUMMARY:Trivia Night
DESCRIPTION:Great trivia with awesome prizes at Billie’s Burgers & Beer!
URL:https://billiesburgersandbeer.com/event/trivia-night-9/
LOCATION:Billie’s Burgers & Beer\, 745 Columbus Ave\, Lebanon\, OH\, 45036\, United States
CATEGORIES:Trivia Night!
ATTACH;FMTTYPE=image/jpeg:https://billiesburgersandbeer.com/wp-content/uploads/2022/11/Trivia-Night-0001.jpg
END:VEVENT
BEGIN:VEVENT
DTSTART;TZID=UTC:20230213T190000
DTEND;TZID=UTC:20230216T210000
DTSTAMP:20260423T173039
CREATED:20230213T234506Z
LAST-MODIFIED:20230213T234506Z
UID:1438-1676314800-1676581200@billiesburgersandbeer.com
SUMMARY:Trivia Night!!!
DESCRIPTION:Billies Burgers!! Every Thursday @ 7 with Brant Benson . Great food \,cold beer  \, tender special and nice prizes .
URL:https://billiesburgersandbeer.com/event/trivia-night-8/
LOCATION:Billie’s Burgers & Beer\, 745 Columbus Ave\, Lebanon\, OH\, 45036\, United States
CATEGORIES:Trivia Night!
ATTACH;FMTTYPE=image/jpeg:https://billiesburgersandbeer.com/wp-content/uploads/2022/11/Cropped-Trivia-Night-950x475-1.jpg
END:VEVENT
BEGIN:VEVENT
DTSTART;TZID=UTC:20230213T190000
DTEND;TZID=UTC:20230213T210000
DTSTAMP:20260423T173039
CREATED:20230213T235249Z
LAST-MODIFIED:20230213T235408Z
UID:1442-1676314800-1676322000@billiesburgersandbeer.com
SUMMARY:Trivia Night at Billie's Burgers & Beer
DESCRIPTION:Join in the fun of our Trivia Night where you can win great prizes! The action starts at 7:00 at Billie’s Burgers & Beer!
URL:https://billiesburgersandbeer.com/event/trivia-night-at-billies-burgers-beer-2/
LOCATION:Billie’s Burgers & Beer\, 745 Columbus Ave\, Lebanon\, OH\, 45036\, United States
CATEGORIES:Trivia Night!
ATTACH;FMTTYPE=image/jpeg:https://billiesburgersandbeer.com/wp-content/uploads/2022/10/Trivia-Night-01.jpg
END:VEVENT
BEGIN:VEVENT
DTSTART;TZID=UTC:20221229T190000
DTEND;TZID=UTC:20221229T213000
DTSTAMP:20260423T173039
CREATED:20221114T225019Z
LAST-MODIFIED:20221114T225019Z
UID:1398-1672340400-1672349400@billiesburgersandbeer.com
SUMMARY:Trivia Night!
DESCRIPTION:Great trivia with awesome prizes at Billie’s Burgers & Beer!
URL:https://billiesburgersandbeer.com/event/trivia-night-7/
LOCATION:Billie’s Burgers & Beer\, 745 Columbus Ave\, Lebanon\, OH\, 45036\, United States
CATEGORIES:Trivia Night!
ATTACH;FMTTYPE=image/jpeg:https://billiesburgersandbeer.com/wp-content/uploads/2022/10/Trivia-Night-01.jpg
END:VEVENT
BEGIN:VEVENT
DTSTART;TZID=UTC:20221222T190000
DTEND;TZID=UTC:20221222T213000
DTSTAMP:20260423T173039
CREATED:20221114T224920Z
LAST-MODIFIED:20221114T224920Z
UID:1396-1671735600-1671744600@billiesburgersandbeer.com
SUMMARY:Trivia Night!!!
DESCRIPTION:Great trivia with awesome prizes at Billie’s Burgers & Beer!
URL:https://billiesburgersandbeer.com/event/trivia-night-6/
LOCATION:Billie’s Burgers & Beer\, 745 Columbus Ave\, Lebanon\, OH\, 45036\, United States
CATEGORIES:Trivia Night!
ATTACH;FMTTYPE=image/jpeg:https://billiesburgersandbeer.com/wp-content/uploads/2022/10/Trivia-Night-02.jpg
END:VEVENT
BEGIN:VEVENT
DTSTART;TZID=UTC:20221215T190000
DTEND;TZID=UTC:20221215T213000
DTSTAMP:20260423T173039
CREATED:20221114T224806Z
LAST-MODIFIED:20221114T224806Z
UID:1394-1671130800-1671139800@billiesburgersandbeer.com
SUMMARY:Trivia Night
DESCRIPTION:Great trivia with awesome prizes!
URL:https://billiesburgersandbeer.com/event/trivia-night-5/
LOCATION:Billie’s Burgers & Beer\, 745 Columbus Ave\, Lebanon\, OH\, 45036\, United States
CATEGORIES:Trivia Night!
ATTACH;FMTTYPE=image/jpeg:https://billiesburgersandbeer.com/wp-content/uploads/2022/10/Trivia-Night-03.jpg
END:VEVENT
BEGIN:VEVENT
DTSTART;TZID=UTC:20221208T190000
DTEND;TZID=UTC:20221208T213000
DTSTAMP:20260423T173039
CREATED:20221114T231559Z
LAST-MODIFIED:20221114T231559Z
UID:1416-1670526000-1670535000@billiesburgersandbeer.com
SUMMARY:Trivia Night With Santa!
DESCRIPTION:Join us for a fun night of trivia with none other than Santa himself! This special event includes great prizes\, great food and great drinks!
URL:https://billiesburgersandbeer.com/event/trivia-night-with-santa/
LOCATION:Billie’s Burgers & Beer\, 745 Columbus Ave\, Lebanon\, OH\, 45036\, United States
CATEGORIES:Special Event,Trivia Night!
ATTACH;FMTTYPE=image/jpeg:https://billiesburgersandbeer.com/wp-content/uploads/2022/11/pexels-andrea-piacquadio-716658.jpg
END:VEVENT
BEGIN:VEVENT
DTSTART;TZID=UTC:20221122T190000
DTEND;TZID=UTC:20221122T210000
DTSTAMP:20260423T173039
CREATED:20221114T222806Z
LAST-MODIFIED:20221114T222806Z
UID:1375-1669143600-1669150800@billiesburgersandbeer.com
SUMMARY:Trivia Night
DESCRIPTION:Come join the fun of Trivia Night at Billie’s Burgers & Beer\, scheduled for Tuesday this week!
URL:https://billiesburgersandbeer.com/event/trivia-night-4/
LOCATION:Billie’s Burgers & Beer\, 745 Columbus Ave\, Lebanon\, OH\, 45036\, United States
CATEGORIES:Trivia Night!
ATTACH;FMTTYPE=image/jpeg:https://billiesburgersandbeer.com/wp-content/uploads/2022/11/Trivia-Night-0001.jpg
END:VEVENT
BEGIN:VEVENT
DTSTART;TZID=UTC:20221110T190000
DTEND;TZID=UTC:20221110T220000
DTSTAMP:20260423T173039
CREATED:20221016T223827Z
LAST-MODIFIED:20221016T223827Z
UID:1239-1668106800-1668117600@billiesburgersandbeer.com
SUMMARY:Trivia Night at Billie's Burgers & Beer
DESCRIPTION:Join in the fun of our Trivia Night where you can win great prizes! The action starts at 7:00 at Billie’s Burgers & Beer!
URL:https://billiesburgersandbeer.com/event/trivia-night-at-billies-burgers-beer/
LOCATION:Billie’s Burgers & Beer\, 745 Columbus Ave\, Lebanon\, OH\, 45036\, United States
CATEGORIES:Trivia Night!
ATTACH;FMTTYPE=image/jpeg:https://billiesburgersandbeer.com/wp-content/uploads/2022/10/Trivia-Night-03.jpg
END:VEVENT
BEGIN:VEVENT
DTSTART;TZID=UTC:20221103T190000
DTEND;TZID=UTC:20221103T220000
DTSTAMP:20260423T173039
CREATED:20221016T223724Z
LAST-MODIFIED:20221016T223724Z
UID:1237-1667502000-1667512800@billiesburgersandbeer.com
SUMMARY:Trivia Night!!
DESCRIPTION:Join us for Trivia Night where you can win great prizes! The action starts at 7:00 at Billie’s Burgers & Beer!
URL:https://billiesburgersandbeer.com/event/trivia-night-2/
LOCATION:Billie’s Burgers & Beer\, 745 Columbus Ave\, Lebanon\, OH\, 45036\, United States
CATEGORIES:Trivia Night!
ATTACH;FMTTYPE=image/jpeg:https://billiesburgersandbeer.com/wp-content/uploads/2022/10/Trivia-Night-02.jpg
END:VEVENT
BEGIN:VEVENT
DTSTART;TZID=UTC:20221027T190000
DTEND;TZID=UTC:20221027T220000
DTSTAMP:20260423T173039
CREATED:20221016T223606Z
LAST-MODIFIED:20221016T223606Z
UID:1232-1666897200-1666908000@billiesburgersandbeer.com
SUMMARY:Trivia Night at Billie's
DESCRIPTION:Join in the fun of our Trivia Night where you can win great prizes! The action starts at 7:00 at Billie’s Burgers & Beer! Don’t miss a great time!
URL:https://billiesburgersandbeer.com/event/trivia-night-at-billies/
LOCATION:Billie’s Burgers & Beer\, 745 Columbus Ave\, Lebanon\, OH\, 45036\, United States
CATEGORIES:Trivia Night!
ATTACH;FMTTYPE=image/jpeg:https://billiesburgersandbeer.com/wp-content/uploads/2022/10/Trivia-Night-01.jpg
END:VEVENT
BEGIN:VEVENT
DTSTART;TZID=UTC:20221020T190000
DTEND;TZID=UTC:20221020T220000
DTSTAMP:20260423T173039
CREATED:20221016T220103Z
LAST-MODIFIED:20221016T220103Z
UID:1209-1666292400-1666303200@billiesburgersandbeer.com
SUMMARY:Halloween Trivia Night
DESCRIPTION:Join us on October 20th for a special trivia night! \nWe will host a costume contest with great prizes! \nSpecials available! \n$2.00 off orange Bud Light & Michelob Ultra Pitchers \n$1.39 Tenders Special \n$5.00 Orange Margarita
URL:https://billiesburgersandbeer.com/event/halloween-trivia-night/
LOCATION:Billie’s Burgers & Beer\, 745 Columbus Ave\, Lebanon\, OH\, 45036\, United States
CATEGORIES:Trivia Night!
ATTACH;FMTTYPE=image/jpeg:https://billiesburgersandbeer.com/wp-content/uploads/2022/10/Haloween-Trivia.jpg
END:VEVENT
BEGIN:VEVENT
DTSTART;TZID=UTC:20221020T190000
DTEND;TZID=UTC:20221020T220000
DTSTAMP:20260423T173039
CREATED:20221016T213716Z
LAST-MODIFIED:20221016T213716Z
UID:1193-1666292400-1666303200@billiesburgersandbeer.com
SUMMARY:Trivia Night!
DESCRIPTION:Join in the fun of our Trivia Night where you can win great prizes! The action starts at 7:00 at Billie’s Burgers & Beer!
URL:https://billiesburgersandbeer.com/event/trivia-night/
LOCATION:Billie’s Burgers & Beer\, 745 Columbus Ave\, Lebanon\, OH\, 45036\, United States
CATEGORIES:Trivia Night!
ATTACH;FMTTYPE=image/jpeg:https://billiesburgersandbeer.com/wp-content/uploads/2022/10/Trivia-Night-04.jpg
END:VEVENT
END:VCALENDAR