BEGIN:VCALENDAR
VERSION:2.0
PRODID:-//Billie&#039;s Burgers &amp; Beer - ECPv6.15.20//NONSGML v1.0//EN
CALSCALE:GREGORIAN
METHOD:PUBLISH
X-ORIGINAL-URL:https://billiesburgersandbeer.com
X-WR-CALDESC:Events for Billie&#039;s Burgers &amp; Beer
REFRESH-INTERVAL;VALUE=DURATION:PT1H
X-Robots-Tag:noindex
X-PUBLISHED-TTL:PT1H
BEGIN:VTIMEZONE
TZID:UTC
BEGIN:STANDARD
TZOFFSETFROM:+0000
TZOFFSETTO:+0000
TZNAME:UTC
DTSTART:20210101T000000
END:STANDARD
END:VTIMEZONE
BEGIN:VEVENT
DTSTART;TZID=UTC:20221027T190000
DTEND;TZID=UTC:20221027T220000
DTSTAMP:20260423T201850
CREATED:20221016T223606Z
LAST-MODIFIED:20221016T223606Z
UID:1232-1666897200-1666908000@billiesburgersandbeer.com
SUMMARY:Trivia Night at Billie's
DESCRIPTION:Join in the fun of our Trivia Night where you can win great prizes! The action starts at 7:00 at Billie’s Burgers & Beer! Don’t miss a great time!
URL:https://billiesburgersandbeer.com/event/trivia-night-at-billies/
LOCATION:Billie’s Burgers & Beer\, 745 Columbus Ave\, Lebanon\, OH\, 45036\, United States
CATEGORIES:Trivia Night!
ATTACH;FMTTYPE=image/jpeg:https://billiesburgersandbeer.com/wp-content/uploads/2022/10/Trivia-Night-01.jpg
END:VEVENT
BEGIN:VEVENT
DTSTART;TZID=UTC:20221020T190000
DTEND;TZID=UTC:20221020T220000
DTSTAMP:20260423T201850
CREATED:20221016T220103Z
LAST-MODIFIED:20221016T220103Z
UID:1209-1666292400-1666303200@billiesburgersandbeer.com
SUMMARY:Halloween Trivia Night
DESCRIPTION:Join us on October 20th for a special trivia night! \nWe will host a costume contest with great prizes! \nSpecials available! \n$2.00 off orange Bud Light & Michelob Ultra Pitchers \n$1.39 Tenders Special \n$5.00 Orange Margarita
URL:https://billiesburgersandbeer.com/event/halloween-trivia-night/
LOCATION:Billie’s Burgers & Beer\, 745 Columbus Ave\, Lebanon\, OH\, 45036\, United States
CATEGORIES:Trivia Night!
ATTACH;FMTTYPE=image/jpeg:https://billiesburgersandbeer.com/wp-content/uploads/2022/10/Haloween-Trivia.jpg
END:VEVENT
BEGIN:VEVENT
DTSTART;TZID=UTC:20221020T190000
DTEND;TZID=UTC:20221020T220000
DTSTAMP:20260423T201850
CREATED:20221016T213716Z
LAST-MODIFIED:20221016T213716Z
UID:1193-1666292400-1666303200@billiesburgersandbeer.com
SUMMARY:Trivia Night!
DESCRIPTION:Join in the fun of our Trivia Night where you can win great prizes! The action starts at 7:00 at Billie’s Burgers & Beer!
URL:https://billiesburgersandbeer.com/event/trivia-night/
LOCATION:Billie’s Burgers & Beer\, 745 Columbus Ave\, Lebanon\, OH\, 45036\, United States
CATEGORIES:Trivia Night!
ATTACH;FMTTYPE=image/jpeg:https://billiesburgersandbeer.com/wp-content/uploads/2022/10/Trivia-Night-04.jpg
END:VEVENT
END:VCALENDAR