BEGIN:VCALENDAR
VERSION:2.0
PRODID:-//Billie&#039;s Burgers &amp; Beer - ECPv6.15.20//NONSGML v1.0//EN
CALSCALE:GREGORIAN
METHOD:PUBLISH
X-ORIGINAL-URL:https://billiesburgersandbeer.com
X-WR-CALDESC:Events for Billie&#039;s Burgers &amp; Beer
REFRESH-INTERVAL;VALUE=DURATION:PT1H
X-Robots-Tag:noindex
X-PUBLISHED-TTL:PT1H
BEGIN:VTIMEZONE
TZID:UTC
BEGIN:STANDARD
TZOFFSETFROM:+0000
TZOFFSETTO:+0000
TZNAME:UTC
DTSTART:20210101T000000
END:STANDARD
END:VTIMEZONE
BEGIN:VEVENT
DTSTART;TZID=UTC:20221225T120000
DTEND;TZID=UTC:20221225T200000
DTSTAMP:20260423T225317
CREATED:20221114T231154Z
LAST-MODIFIED:20221114T231154Z
UID:1414-1671969600-1671998400@billiesburgersandbeer.com
SUMMARY:Christmas Day
DESCRIPTION:Billie’s Burgers & Beer will be open from 12-8 on Christmas Day.
URL:https://billiesburgersandbeer.com/event/christmas-day/
LOCATION:Billie’s Burgers & Beer\, 745 Columbus Ave\, Lebanon\, OH\, 45036\, United States
CATEGORIES:Special Event
ATTACH;FMTTYPE=image/jpeg:https://billiesburgersandbeer.com/wp-content/uploads/2022/11/christmas-ge646c1200_1280.jpg
END:VEVENT
BEGIN:VEVENT
DTSTART;TZID=UTC:20221224T120000
DTEND;TZID=UTC:20221224T180000
DTSTAMP:20260423T225317
CREATED:20221114T231032Z
LAST-MODIFIED:20221114T231032Z
UID:1410-1671883200-1671904800@billiesburgersandbeer.com
SUMMARY:Christmas Eve
DESCRIPTION:Billie’s Burgers & Beer will be open from 12-6 on Christmas Eve.
URL:https://billiesburgersandbeer.com/event/christmas-eve/
LOCATION:Billie’s Burgers & Beer\, 745 Columbus Ave\, Lebanon\, OH\, 45036\, United States
CATEGORIES:Special Event
ATTACH;FMTTYPE=image/png:https://billiesburgersandbeer.com/wp-content/uploads/2022/11/moon-gb4503a191_1280.png
END:VEVENT
BEGIN:VEVENT
DTSTART;TZID=UTC:20221223T190000
DTEND;TZID=UTC:20221223T223000
DTSTAMP:20260423T225317
CREATED:20221114T224451Z
LAST-MODIFIED:20221114T224451Z
UID:1389-1671822000-1671834600@billiesburgersandbeer.com
SUMMARY:Karaoke Night
DESCRIPTION:Karaoke Night at Billie’s Burgers & Beer!
URL:https://billiesburgersandbeer.com/event/karaoke-night-10/
LOCATION:Billie’s Burgers & Beer\, 745 Columbus Ave\, Lebanon\, OH\, 45036\, United States
CATEGORIES:Karaoke Night!
ATTACH;FMTTYPE=image/jpeg:https://billiesburgersandbeer.com/wp-content/uploads/2022/11/pexels-dominika-roseclay-1032000.jpg
END:VEVENT
BEGIN:VEVENT
DTSTART;TZID=UTC:20221222T190000
DTEND;TZID=UTC:20221222T213000
DTSTAMP:20260423T225317
CREATED:20221114T224920Z
LAST-MODIFIED:20221114T224920Z
UID:1396-1671735600-1671744600@billiesburgersandbeer.com
SUMMARY:Trivia Night!!!
DESCRIPTION:Great trivia with awesome prizes at Billie’s Burgers & Beer!
URL:https://billiesburgersandbeer.com/event/trivia-night-6/
LOCATION:Billie’s Burgers & Beer\, 745 Columbus Ave\, Lebanon\, OH\, 45036\, United States
CATEGORIES:Trivia Night!
ATTACH;FMTTYPE=image/jpeg:https://billiesburgersandbeer.com/wp-content/uploads/2022/10/Trivia-Night-02.jpg
END:VEVENT
BEGIN:VEVENT
DTSTART;TZID=UTC:20221217T190000
DTEND;TZID=UTC:20221217T223000
DTSTAMP:20260423T225317
CREATED:20221114T230020Z
LAST-MODIFIED:20221114T230620Z
UID:1403-1671303600-1671316200@billiesburgersandbeer.com
SUMMARY:Mr. Chris Band
DESCRIPTION:Live Music with Mr. Chris Band at Billie’s Burgers & Beer!
URL:https://billiesburgersandbeer.com/event/mr-chris-band/
LOCATION:Billie’s Burgers & Beer\, 745 Columbus Ave\, Lebanon\, OH\, 45036\, United States
CATEGORIES:Live Music
ATTACH;FMTTYPE=image/jpeg:https://billiesburgersandbeer.com/wp-content/uploads/2022/11/pexels-dominika-roseclay-1032000.jpg
END:VEVENT
BEGIN:VEVENT
DTSTART;TZID=UTC:20221216T190000
DTEND;TZID=UTC:20221216T223000
DTSTAMP:20260423T225317
CREATED:20221114T224206Z
LAST-MODIFIED:20221114T224206Z
UID:1387-1671217200-1671229800@billiesburgersandbeer.com
SUMMARY:Karaoke Night!!
DESCRIPTION:Karaoke Night at Billie’s Burgers & Beer! Come enjoy some great entertainment with great food and drinks!
URL:https://billiesburgersandbeer.com/event/karaoke-night-9/
LOCATION:Billie’s Burgers & Beer\, 745 Columbus Ave\, Lebanon\, OH\, 45036\, United States
CATEGORIES:Karaoke Night!
ATTACH;FMTTYPE=image/jpeg:https://billiesburgersandbeer.com/wp-content/uploads/2022/10/Karaoke-Night-02.jpg
END:VEVENT
BEGIN:VEVENT
DTSTART;TZID=UTC:20221215T190000
DTEND;TZID=UTC:20221215T213000
DTSTAMP:20260423T225317
CREATED:20221114T224806Z
LAST-MODIFIED:20221114T224806Z
UID:1394-1671130800-1671139800@billiesburgersandbeer.com
SUMMARY:Trivia Night
DESCRIPTION:Great trivia with awesome prizes!
URL:https://billiesburgersandbeer.com/event/trivia-night-5/
LOCATION:Billie’s Burgers & Beer\, 745 Columbus Ave\, Lebanon\, OH\, 45036\, United States
CATEGORIES:Trivia Night!
ATTACH;FMTTYPE=image/jpeg:https://billiesburgersandbeer.com/wp-content/uploads/2022/10/Trivia-Night-03.jpg
END:VEVENT
BEGIN:VEVENT
DTSTART;TZID=UTC:20221210T190000
DTEND;TZID=UTC:20221210T223000
DTSTAMP:20260423T225317
CREATED:20221114T225421Z
LAST-MODIFIED:20221114T230702Z
UID:1400-1670698800-1670711400@billiesburgersandbeer.com
SUMMARY:Thunder Head Band
DESCRIPTION:Live Music with Thunder Head Band at Billie’s Burgers & Beer on Saturday December 10th!
URL:https://billiesburgersandbeer.com/event/thunder-head-band/
LOCATION:Billie’s Burgers & Beer\, 745 Columbus Ave\, Lebanon\, OH\, 45036\, United States
CATEGORIES:Live Music
ATTACH;FMTTYPE=image/jpeg:https://billiesburgersandbeer.com/wp-content/uploads/2022/11/Thunder-Head-Band.jpg
END:VEVENT
BEGIN:VEVENT
DTSTART;TZID=UTC:20221209T190000
DTEND;TZID=UTC:20221209T223000
DTSTAMP:20260423T225317
CREATED:20221114T224039Z
LAST-MODIFIED:20221114T224039Z
UID:1385-1670612400-1670625000@billiesburgersandbeer.com
SUMMARY:Karaoke Night!!!
DESCRIPTION:Join us for a fun filled Karaoke Night at Billie’s Burgers & Beer! Come enjoy some great entertainment!
URL:https://billiesburgersandbeer.com/event/karaoke-night-8/
LOCATION:Billie’s Burgers & Beer\, 745 Columbus Ave\, Lebanon\, OH\, 45036\, United States
CATEGORIES:Karaoke Night!
ATTACH;FMTTYPE=image/jpeg:https://billiesburgersandbeer.com/wp-content/uploads/2022/10/Karaoke-Night-03.jpg
END:VEVENT
BEGIN:VEVENT
DTSTART;TZID=UTC:20221208T190000
DTEND;TZID=UTC:20221208T213000
DTSTAMP:20260423T225317
CREATED:20221114T231559Z
LAST-MODIFIED:20221114T231559Z
UID:1416-1670526000-1670535000@billiesburgersandbeer.com
SUMMARY:Trivia Night With Santa!
DESCRIPTION:Join us for a fun night of trivia with none other than Santa himself! This special event includes great prizes\, great food and great drinks!
URL:https://billiesburgersandbeer.com/event/trivia-night-with-santa/
LOCATION:Billie’s Burgers & Beer\, 745 Columbus Ave\, Lebanon\, OH\, 45036\, United States
CATEGORIES:Special Event,Trivia Night!
ATTACH;FMTTYPE=image/jpeg:https://billiesburgersandbeer.com/wp-content/uploads/2022/11/pexels-andrea-piacquadio-716658.jpg
END:VEVENT
BEGIN:VEVENT
DTSTART;TZID=UTC:20221202T190000
DTEND;TZID=UTC:20221202T223000
DTSTAMP:20260423T225317
CREATED:20221114T223929Z
LAST-MODIFIED:20221114T223929Z
UID:1383-1670007600-1670020200@billiesburgersandbeer.com
SUMMARY:Karaoke Night
DESCRIPTION:Join us for a fun filled Karaoke Night at Billie’s Burgers & Beer! Come enjoy some great entertainment with great food and drinks!
URL:https://billiesburgersandbeer.com/event/karaoke-night-7/
LOCATION:Billie’s Burgers & Beer\, 745 Columbus Ave\, Lebanon\, OH\, 45036\, United States
CATEGORIES:Karaoke Night!
ATTACH;FMTTYPE=image/jpeg:https://billiesburgersandbeer.com/wp-content/uploads/2022/10/Karaoke-Night-01.jpg
END:VEVENT
BEGIN:VEVENT
DTSTART;TZID=UTC:20221126T190000
DTEND;TZID=UTC:20221126T223000
DTSTAMP:20260423T225317
CREATED:20221114T222154Z
LAST-MODIFIED:20221114T230737Z
UID:1369-1669489200-1669501800@billiesburgersandbeer.com
SUMMARY:TWO & The 22's
DESCRIPTION:Come see a great local band this Saturday at Billie’s Burgers & Beer\, TWO & The 22’s is a Psychedelic\, Post-Rock\, Blues\, Instrumental\, Jam Band based out of Southwestern Ohio with a unique sound you wont want to miss out on! Live Music
URL:https://billiesburgersandbeer.com/event/two-the-22s/
LOCATION:Billie’s Burgers & Beer\, 745 Columbus Ave\, Lebanon\, OH\, 45036\, United States
CATEGORIES:Live Music
ATTACH;FMTTYPE=image/jpeg:https://billiesburgersandbeer.com/wp-content/uploads/2022/11/two-and-the-22s.jpg
END:VEVENT
BEGIN:VEVENT
DTSTART;TZID=UTC:20221125T193000
DTEND;TZID=UTC:20221125T223000
DTSTAMP:20260423T225317
CREATED:20221114T223443Z
LAST-MODIFIED:20221114T223443Z
UID:1380-1669404600-1669415400@billiesburgersandbeer.com
SUMMARY:Karaoke Night!!!
DESCRIPTION:Join us for a fun filled Karaoke Night at Billie’s Burgers & Beer! Come enjoy some great entertainment with great food and drinks!
URL:https://billiesburgersandbeer.com/event/karaoke-night-6/
LOCATION:Billie’s Burgers & Beer\, 745 Columbus Ave\, Lebanon\, OH\, 45036\, United States
CATEGORIES:Karaoke Night!
ATTACH;FMTTYPE=image/jpeg:https://billiesburgersandbeer.com/wp-content/uploads/2022/10/Karaoke-Night-02.jpg
END:VEVENT
BEGIN:VEVENT
DTSTART;TZID=UTC:20221125T190000
DTEND;TZID=UTC:20221125T190000
DTSTAMP:20260423T225317
CREATED:20221016T223300Z
LAST-MODIFIED:20221016T223300Z
UID:1230-1669402800-1669402800@billiesburgersandbeer.com
SUMMARY:Weekly Karaoke Night!
DESCRIPTION:Join us at Billie’s Burgers & Beer for a great time during our Karaoke Night!!!
URL:https://billiesburgersandbeer.com/event/weekly-karaoke-night/
LOCATION:Billie’s Burgers & Beer\, 745 Columbus Ave\, Lebanon\, OH\, 45036\, United States
CATEGORIES:Karaoke Night!
ATTACH;FMTTYPE=image/jpeg:https://billiesburgersandbeer.com/wp-content/uploads/2022/10/Karaoke-Night-03.jpg
END:VEVENT
BEGIN:VEVENT
DTSTART;TZID=UTC:20221124T140000
DTEND;TZID=UTC:20221124T200000
DTSTAMP:20260423T225317
CREATED:20221114T222452Z
LAST-MODIFIED:20221114T222452Z
UID:1372-1669298400-1669320000@billiesburgersandbeer.com
SUMMARY:OPEN THANKSGIVING DAY!!!
DESCRIPTION:Billie’s Burgers and Beer will be open on Thanksgiving Day from 2Pm-8PM. Come for great food\, great drinks\, and a great atmosphere!
URL:https://billiesburgersandbeer.com/event/open-thanksgiving-day/
LOCATION:Billie’s Burgers & Beer\, 745 Columbus Ave\, Lebanon\, OH\, 45036\, United States
CATEGORIES:Special Event
ATTACH;FMTTYPE=image/png:https://billiesburgersandbeer.com/wp-content/uploads/2022/11/Thanksgiving-Turkey.png
END:VEVENT
BEGIN:VEVENT
DTSTART;TZID=UTC:20221122T190000
DTEND;TZID=UTC:20221122T210000
DTSTAMP:20260423T225317
CREATED:20221114T222806Z
LAST-MODIFIED:20221114T222806Z
UID:1375-1669143600-1669150800@billiesburgersandbeer.com
SUMMARY:Trivia Night
DESCRIPTION:Come join the fun of Trivia Night at Billie’s Burgers & Beer\, scheduled for Tuesday this week!
URL:https://billiesburgersandbeer.com/event/trivia-night-4/
LOCATION:Billie’s Burgers & Beer\, 745 Columbus Ave\, Lebanon\, OH\, 45036\, United States
CATEGORIES:Trivia Night!
ATTACH;FMTTYPE=image/jpeg:https://billiesburgersandbeer.com/wp-content/uploads/2022/11/Trivia-Night-0001.jpg
END:VEVENT
BEGIN:VEVENT
DTSTART;TZID=UTC:20221119T190000
DTEND;TZID=UTC:20221119T223000
DTSTAMP:20260423T225317
CREATED:20221114T221636Z
LAST-MODIFIED:20221114T221636Z
UID:1365-1668884400-1668897000@billiesburgersandbeer.com
SUMMARY:American Rebels
DESCRIPTION:Come out to Billie’s Burgers & Beer for great music from American Rebels.
URL:https://billiesburgersandbeer.com/event/american-rebels/
LOCATION:Billie’s Burgers & Beer\, 745 Columbus Ave\, Lebanon\, OH\, 45036\, United States
CATEGORIES:Live Music
ATTACH;FMTTYPE=image/jpeg:https://billiesburgersandbeer.com/wp-content/uploads/2022/11/pexels-edward-eyer-811838-1.jpg
END:VEVENT
BEGIN:VEVENT
DTSTART;TZID=UTC:20221118T190000
DTEND;TZID=UTC:20221118T223000
DTSTAMP:20260423T225317
CREATED:20221114T223246Z
LAST-MODIFIED:20221114T223246Z
UID:1378-1668798000-1668810600@billiesburgersandbeer.com
SUMMARY:Karaoke Night
DESCRIPTION:Join us for Karaoke Night at Billie’s Burgers & Beer!
URL:https://billiesburgersandbeer.com/event/karaoke-night-5/
LOCATION:Billie’s Burgers & Beer\, 745 Columbus Ave\, Lebanon\, OH\, 45036\, United States
CATEGORIES:Karaoke Night!
ATTACH;FMTTYPE=image/jpeg:https://billiesburgersandbeer.com/wp-content/uploads/2022/10/hd-wallpaper-3284770_1920.jpg
END:VEVENT
BEGIN:VEVENT
DTSTART;TZID=UTC:20221118T190000
DTEND;TZID=UTC:20221118T190000
DTSTAMP:20260423T225317
CREATED:20221016T223138Z
LAST-MODIFIED:20221016T223138Z
UID:1228-1668798000-1668798000@billiesburgersandbeer.com
SUMMARY:Karaoke Night at Billie's Burgers & Beer
DESCRIPTION:Karaoke night is always a blast at Billie’s! Come out and have a great time\, bring your friends and family to enjoy some great food and drinks!
URL:https://billiesburgersandbeer.com/event/karaoke-night-at-billies-burgers-beer/
LOCATION:Billie’s Burgers & Beer\, 745 Columbus Ave\, Lebanon\, OH\, 45036\, United States
CATEGORIES:Karaoke Night!
ATTACH;FMTTYPE=image/jpeg:https://billiesburgersandbeer.com/wp-content/uploads/2022/10/Karaoke-Night-02.jpg
END:VEVENT
BEGIN:VEVENT
DTSTART;TZID=UTC:20221117T190000
DTEND;TZID=UTC:20221117T213000
DTSTAMP:20260423T225317
CREATED:20221114T221014Z
LAST-MODIFIED:20221114T221032Z
UID:1362-1668711600-1668720600@billiesburgersandbeer.com
SUMMARY:Trivia Night
DESCRIPTION:Join us at Billie’s Burgers & Beer for our weekly trivia night with a special twist this week. A Taste of Moonshine! Great prizes and great food!
URL:https://billiesburgersandbeer.com/event/trivia-night-3/
LOCATION:Billie’s Burgers & Beer\, 745 Columbus Ave\, Lebanon\, OH\, 45036\, United States
ATTACH;FMTTYPE=image/jpeg:https://billiesburgersandbeer.com/wp-content/uploads/2022/11/Cropped-Trivia-Night-950x475-1.jpg
END:VEVENT
BEGIN:VEVENT
DTSTART;TZID=UTC:20221117T190000
DTEND;TZID=UTC:20221117T213000
DTSTAMP:20260423T225317
CREATED:20221114T220644Z
LAST-MODIFIED:20221114T220644Z
UID:1359-1668711600-1668720600@billiesburgersandbeer.com
SUMMARY:Taste Of Moonshine!!!
DESCRIPTION:Stop by for a taste of moonshine with Trivia Night . Great prizes for the winner and great food! Join us for a fun filled night at Billie’s Burgers & Beer!
URL:https://billiesburgersandbeer.com/event/taste-of-moonshine/
LOCATION:Billie’s Burgers & Beer\, 745 Columbus Ave\, Lebanon\, OH\, 45036\, United States
CATEGORIES:Special Event
ATTACH;FMTTYPE=image/jpeg:https://billiesburgersandbeer.com/wp-content/uploads/2022/11/Moonshine.jpg
END:VEVENT
BEGIN:VEVENT
DTSTART;TZID=UTC:20221111T190000
DTEND;TZID=UTC:20221111T233000
DTSTAMP:20260423T225317
CREATED:20221016T222742Z
LAST-MODIFIED:20221016T222742Z
UID:1225-1668193200-1668209400@billiesburgersandbeer.com
SUMMARY:Karaoke Night!!!!!
DESCRIPTION:Karaoke Night hosted by Billie’s Burgers & Beer is always a great time with amazing food and cold drinks. Come out and join us!
URL:https://billiesburgersandbeer.com/event/karaoke-night-4/
LOCATION:Billie’s Burgers & Beer\, 745 Columbus Ave\, Lebanon\, OH\, 45036\, United States
CATEGORIES:Karaoke Night!
ATTACH;FMTTYPE=image/jpeg:https://billiesburgersandbeer.com/wp-content/uploads/2022/10/hd-wallpaper-3284770_1920.jpg
END:VEVENT
BEGIN:VEVENT
DTSTART;TZID=UTC:20221110T190000
DTEND;TZID=UTC:20221110T220000
DTSTAMP:20260423T225317
CREATED:20221016T223827Z
LAST-MODIFIED:20221016T223827Z
UID:1239-1668106800-1668117600@billiesburgersandbeer.com
SUMMARY:Trivia Night at Billie's Burgers & Beer
DESCRIPTION:Join in the fun of our Trivia Night where you can win great prizes! The action starts at 7:00 at Billie’s Burgers & Beer!
URL:https://billiesburgersandbeer.com/event/trivia-night-at-billies-burgers-beer/
LOCATION:Billie’s Burgers & Beer\, 745 Columbus Ave\, Lebanon\, OH\, 45036\, United States
CATEGORIES:Trivia Night!
ATTACH;FMTTYPE=image/jpeg:https://billiesburgersandbeer.com/wp-content/uploads/2022/10/Trivia-Night-03.jpg
END:VEVENT
BEGIN:VEVENT
DTSTART;TZID=UTC:20221104T190000
DTEND;TZID=UTC:20221104T220000
DTSTAMP:20260423T225317
CREATED:20221016T222349Z
LAST-MODIFIED:20221016T222349Z
UID:1223-1667588400-1667599200@billiesburgersandbeer.com
SUMMARY:Karaoke Night!!
DESCRIPTION:Come to Billie’s Burgers & Beer for great food and drinks and show off your singing pipes with our fun filled karaoke night!
URL:https://billiesburgersandbeer.com/event/karaoke-night-3/
LOCATION:Billie’s Burgers & Beer\, 745 Columbus Ave\, Lebanon\, OH\, 45036\, United States
CATEGORIES:Karaoke Night!
ATTACH;FMTTYPE=image/jpeg:https://billiesburgersandbeer.com/wp-content/uploads/2022/10/Karaoke-Night-01.jpg
END:VEVENT
BEGIN:VEVENT
DTSTART;TZID=UTC:20221103T190000
DTEND;TZID=UTC:20221103T220000
DTSTAMP:20260423T225317
CREATED:20221016T223724Z
LAST-MODIFIED:20221016T223724Z
UID:1237-1667502000-1667512800@billiesburgersandbeer.com
SUMMARY:Trivia Night!!
DESCRIPTION:Join us for Trivia Night where you can win great prizes! The action starts at 7:00 at Billie’s Burgers & Beer!
URL:https://billiesburgersandbeer.com/event/trivia-night-2/
LOCATION:Billie’s Burgers & Beer\, 745 Columbus Ave\, Lebanon\, OH\, 45036\, United States
CATEGORIES:Trivia Night!
ATTACH;FMTTYPE=image/jpeg:https://billiesburgersandbeer.com/wp-content/uploads/2022/10/Trivia-Night-02.jpg
END:VEVENT
BEGIN:VEVENT
DTSTART;TZID=UTC:20221028T190000
DTEND;TZID=UTC:20221028T220000
DTSTAMP:20260423T225317
CREATED:20221016T222158Z
LAST-MODIFIED:20221016T222158Z
UID:1219-1666983600-1666994400@billiesburgersandbeer.com
SUMMARY:Karaoke Night!!!
DESCRIPTION:Join us at Billie’s Burgers & Beer for a great night of Karaoke with great food and drinks!
URL:https://billiesburgersandbeer.com/event/karaoke-night-2/
LOCATION:Billie’s Burgers & Beer\, 745 Columbus Ave\, Lebanon\, OH\, 45036\, United States
CATEGORIES:Karaoke Night!
ATTACH;FMTTYPE=image/jpeg:https://billiesburgersandbeer.com/wp-content/uploads/2022/10/Karaoke-Night-03.jpg
END:VEVENT
BEGIN:VEVENT
DTSTART;TZID=UTC:20221027T190000
DTEND;TZID=UTC:20221027T220000
DTSTAMP:20260423T225317
CREATED:20221016T223606Z
LAST-MODIFIED:20221016T223606Z
UID:1232-1666897200-1666908000@billiesburgersandbeer.com
SUMMARY:Trivia Night at Billie's
DESCRIPTION:Join in the fun of our Trivia Night where you can win great prizes! The action starts at 7:00 at Billie’s Burgers & Beer! Don’t miss a great time!
URL:https://billiesburgersandbeer.com/event/trivia-night-at-billies/
LOCATION:Billie’s Burgers & Beer\, 745 Columbus Ave\, Lebanon\, OH\, 45036\, United States
CATEGORIES:Trivia Night!
ATTACH;FMTTYPE=image/jpeg:https://billiesburgersandbeer.com/wp-content/uploads/2022/10/Trivia-Night-01.jpg
END:VEVENT
BEGIN:VEVENT
DTSTART;TZID=UTC:20221022T190000
DTEND;TZID=UTC:20221022T230000
DTSTAMP:20260423T225317
CREATED:20221016T220926Z
LAST-MODIFIED:20221016T221128Z
UID:1216-1666465200-1666479600@billiesburgersandbeer.com
SUMMARY:Halloween party with Two & the 22’s Band !!!!
DESCRIPTION:Come party with us at Billie’s Burgers & Beer with special guest Two & the 22’s Band!!!!! \n1$ off of any beer  size \n2$ off of selected appetizers \n3$ Jell-O shots \nCostume contest to win prize.
URL:https://billiesburgersandbeer.com/event/halloween-party-with-two-the-22s-band/
LOCATION:Billie’s Burgers & Beer\, 745 Columbus Ave\, Lebanon\, OH\, 45036\, United States
CATEGORIES:Live Music
ATTACH;FMTTYPE=image/jpeg:https://billiesburgersandbeer.com/wp-content/uploads/2022/10/2-the-22.jpg
END:VEVENT
BEGIN:VEVENT
DTSTART;TZID=UTC:20221021T190000
DTEND;TZID=UTC:20221021T233000
DTSTAMP:20260423T225317
CREATED:20221016T220648Z
LAST-MODIFIED:20221016T220648Z
UID:1213-1666378800-1666395000@billiesburgersandbeer.com
SUMMARY:Halloween Karaoke Night!
DESCRIPTION:Come to Billie’s Burgers & Beer on Friday October 21 for a fun filled night of Karaoke  and a costume contest! \nSpecials available! \n$2.00 off orange Bud Light & Michelob Ultra Pitchers \n$1.39 Tenders Special \n$5.00 Orange Margarita
URL:https://billiesburgersandbeer.com/event/halloween-karaoke-night/
LOCATION:Billie’s Burgers & Beer\, 745 Columbus Ave\, Lebanon\, OH\, 45036\, United States
CATEGORIES:Karaoke Night!
ATTACH;FMTTYPE=image/jpeg:https://billiesburgersandbeer.com/wp-content/uploads/2022/10/Halloween-Karaoke-Night.jpg
END:VEVENT
BEGIN:VEVENT
DTSTART;TZID=UTC:20221021T190000
DTEND;TZID=UTC:20221021T233000
DTSTAMP:20260423T225317
CREATED:20221016T213953Z
LAST-MODIFIED:20221016T213953Z
UID:1202-1666378800-1666395000@billiesburgersandbeer.com
SUMMARY:Karaoke Night!
DESCRIPTION:Join us this Friday for some great fun and songs for our Karaoke Night!
URL:https://billiesburgersandbeer.com/event/karaoke-night/
LOCATION:Billie’s Burgers & Beer\, 745 Columbus Ave\, Lebanon\, OH\, 45036\, United States
CATEGORIES:Karaoke Night!
ATTACH;FMTTYPE=image/jpeg:https://billiesburgersandbeer.com/wp-content/uploads/2022/10/Karaoke-Night-02.jpg
END:VEVENT
END:VCALENDAR